Workbook
Name Directions: Drop_Down_Values!$D$2:$D$14
Name floor: Drop_Down_Values!$C$2:$C$35
Name OZN: Data!$J$2:$J$200
Name Type_matrix: Drop_Down_Values!$A$2:$B$13
Name UID: Data!#REF!
Name vid_obekt: Drop_Down_Values!$A$2:$A$25

Sheet Data
A1: Етаж | B1: Кота [m] | C1: Вид Обект | D1: Номер на обекта | E1: Площ [m2] | F1: Изложение | G1: H - Светло [m] | H1: Цена | I1: Забележка | J1: Означение на обекта [#] | K1: Вид обект под обекта | L1: Жилище | M1: Площ на прилежаща тераса / покривна тераса | N1: Прилежащ / съответстващ обект
A3: 1 Партер | B3: 0 | C3: Апартамент | D3: 1 | E3: 73.05 | F3: Югоизток | G3: 2.6 | J3: =IF(OR(ISBLANK(A3),ISBLANK(C3),ISBLANK(D3)),"","Ет. "&A3&" - "&C3&" "&D3) -> Ет. 1 Партер - Апартамент 1 | L3: =IF(OR(C3="Апартамент",C3="Ателие"),"Да","") -> Да
A4: 1 Партер | B4: 0 | C4: Апартамент | D4: 2 | E4: 65.43 | F4: Изток | G4: 2.6 | J4: =IF(OR(ISBLANK(A4),ISBLANK(C4),ISBLANK(D4)),"","Ет. "&A4&" - "&C4&" "&D4) -> Ет. 1 Партер - Апартамент 2 | L4: =IF(OR(C4="Апартамент",C4="Ателие"),"Да","") -> Да
A5: 1 Партер | B5: 0 | C5: Общи части | E5: 25.08 | G5: 2.6 | J5: =IF(OR(ISBLANK(A5),ISBLANK(C5),ISBLANK(D5)),"","Ет. "&A5&" - "&C5&" "&D5) | L5: =IF(OR(C5="Апартамент",C5="Ателие"),"Да","")
A6: 2 | B6: 2.85 | C6: Апартамент | D6: 3 | E6: 55.16 | F6: Югоизток | G6: 2.6 | J6: =IF(OR(ISBLANK(A6),ISBLANK(C6),ISBLANK(D6)),"","Ет. "&A6&" - "&C6&" "&D6) -> Ет. 2 - Апартамент 3 | L6: =IF(OR(C6="Апартамент",C6="Ателие"),"Да","") -> Да
A7: 2 | B7: 2.85 | C7: Апартамент | D7: 4 | E7: 55.03 | F7: Югоизток | G7: 2.6 | J7: =IF(OR(ISBLANK(A7),ISBLANK(C7),ISBLANK(D7)),"","Ет. "&A7&" - "&C7&" "&D7) -> Ет. 2 - Апартамент 4 | L7: =IF(OR(C7="Апартамент",C7="Ателие"),"Да","") -> Да
A8: 2 | B8: 2.85 | C8: Общи части | E8: 18.9 | G8: 2.6 | J8: =IF(OR(ISBLANK(A8),ISBLANK(C8),ISBLANK(D8)),"","Ет. "&A8&" - "&C8&" "&D8) | L8: =IF(OR(C8="Апартамент",C8="Ателие"),"Да","")
A9: 2 | B9: 5.7 | C9: Апартамент | D9: 5 | E9: 60.72 | F9: Изток | G9: 2.6 | J9: =IF(OR(ISBLANK(A9),ISBLANK(C9),ISBLANK(D9)),"","Ет. "&A9&" - "&C9&" "&D9) -> Ет. 2 - Апартамент 5 | L9: =IF(OR(C9="Апартамент",C9="Ателие"),"Да","") -> Да
A10: 3 | B10: 5.7 | C10: Апартамент | D10: 6 | E10: 55.16 | F10: Югоизток | G10: 2.6 | J10: =IF(OR(ISBLANK(A10),ISBLANK(C10),ISBLANK(D10)),"","Ет. "&A10&" - "&C10&" "&D10) -> Ет. 3 - Апартамент 6 | L10: =IF(OR(C10="Апартамент",C10="Ателие"),"Да","") -> Да
A11: 3 | B11: 5.7 | C11: Общи части | E11: 18.9 | G11: 2.6 | J11: =IF(OR(ISBLANK(A11),ISBLANK(C11),ISBLANK(D11)),"","Ет. "&A11&" - "&C11&" "&D11) | L11: =IF(OR(C11="Апартамент",C11="Ателие"),"Да","")
A12: 3 | B12: 5.7 | C12: Апартамент | D12: 7 | E12: 55.03 | F12: Югоизток | G12: 2.6 | J12: =IF(OR(ISBLANK(A12),ISBLANK(C12),ISBLANK(D12)),"","Ет. "&A12&" - "&C12&" "&D12) -> Ет. 3 - Апартамент 7 | L12: =IF(OR(C12="Апартамент",C12="Ателие"),"Да","") -> Да
A13: 3 | B13: 5.7 | C13: Апартамент | D13: 8 | E13: 60.72 | F13: Изток | G13: 2.6 | J13: =IF(OR(ISBLANK(A13),ISBLANK(C13),ISBLANK(D13)),"","Ет. "&A13&" - "&C13&" "&D13) -> Ет. 3 - Апартамент 8 | L13: =IF(OR(C13="Апартамент",C13="Ателие"),"Да","") -> Да
A14: 4 | B14: 8.55 | C14: Апартамент | D14: 9 | E14: 82.27 | F14: Югоизток | G14: 2.6 | J14: =IF(OR(ISBLANK(A14),ISBLANK(C14),ISBLANK(D14)),"","Ет. "&A14&" - "&C14&" "&D14) -> Ет. 4 - Апартамент 9 | L14: =IF(OR(C14="Апартамент",C14="Ателие"),"Да","") -> Да
A15: 4 | B15: 8.55 | C15: Апартамент | D15: 10 | E15: 89.37 | F15: Изток | G15: 2.6 | J15: =IF(OR(ISBLANK(A15),ISBLANK(C15),ISBLANK(D15)),"","Ет. "&A15&" - "&C15&" "&D15) -> Ет. 4 - Апартамент 10 | L15: =IF(OR(C15="Апартамент",C15="Ателие"),"Да","") -> Да
A16: 4 | B16: 8.55 | C16: Общи части | E16: 18.17 | G16: 2.6 | J16: =IF(OR(ISBLANK(A16),ISBLANK(C16),ISBLANK(D16)),"","Ет. "&A16&" - "&C16&" "&D16) | L16: =IF(OR(C16="Апартамент",C16="Ателие"),"Да","")
A17: 5 | B17: 11.4 | C17: Апартамент | D17: 11 | E17: 69.23 | F17: Изток | G17: 2.6 | J17: =IF(OR(ISBLANK(A17),ISBLANK(C17),ISBLANK(D17)),"","Ет. "&A17&" - "&C17&" "&D17) -> Ет. 5 - Апартамент 11 | L17: =IF(OR(C17="Апартамент",C17="Ателие"),"Да","") -> Да
A18: 5 | B18: 11.4 | C18: Общи части | E18: 17.59 | G18: 2.6 | J18: =IF(OR(ISBLANK(A18),ISBLANK(C18),ISBLANK(D18)),"","Ет. "&A18&" - "&C18&" "&D18) | L18: =IF(OR(C18="Апартамент",C18="Ателие"),"Да","")
J19: =IF(OR(ISBLANK(A19),ISBLANK(C19),ISBLANK(D19)),"","Ет. "&A19&" - "&C19&" "&D19) | L19: =IF(OR(C19="Апартамент",C19="Ателие"),"Да","")
J20: =IF(OR(ISBLANK(A20),ISBLANK(C20),ISBLANK(D20)),"","Ет. "&A20&" - "&C20&" "&D20) | L20: =IF(OR(C20="Апартамент",C20="Ателие"),"Да","")
J21: =IF(OR(ISBLANK(A21),ISBLANK(C21),ISBLANK(D21)),"","Ет. "&A21&" - "&C21&" "&D21) | L21: =IF(OR(C21="Апартамент",C21="Ателие"),"Да","")
J22: =IF(OR(ISBLANK(A22),ISBLANK(C22),ISBLANK(D22)),"","Ет. "&A22&" - "&C22&" "&D22) | L22: =IF(OR(C22="Апартамент",C22="Ателие"),"Да","")
J23: =IF(OR(ISBLANK(A23),ISBLANK(C23),ISBLANK(D23)),"","Ет. "&A23&" - "&C23&" "&D23) | L23: =IF(OR(C23="Апартамент",C23="Ателие"),"Да","")
J24: =IF(OR(ISBLANK(A24),ISBLANK(C24),ISBLANK(D24)),"","Ет. "&A24&" - "&C24&" "&D24) | L24: =IF(OR(C24="Апартамент",C24="Ателие"),"Да","")
J25: =IF(OR(ISBLANK(A25),ISBLANK(C25),ISBLANK(D25)),"","Ет. "&A25&" - "&C25&" "&D25) | L25: =IF(OR(C25="Апартамент",C25="Ателие"),"Да","")
J26: =IF(OR(ISBLANK(A26),ISBLANK(C26),ISBLANK(D26)),"","Ет. "&A26&" - "&C26&" "&D26) | L26: =IF(OR(C26="Апартамент",C26="Ателие"),"Да","")
J27: =IF(OR(ISBLANK(A27),ISBLANK(C27),ISBLANK(D27)),"","Ет. "&A27&" - "&C27&" "&D27) | L27: =IF(OR(C27="Апартамент",C27="Ателие"),"Да","")
J28: =IF(OR(ISBLANK(A28),ISBLANK(C28),ISBLANK(D28)),"","Ет. "&A28&" - "&C28&" "&D28) | L28: =IF(OR(C28="Апартамент",C28="Ателие"),"Да","")
J29: =IF(OR(ISBLANK(A29),ISBLANK(C29),ISBLANK(D29)),"","Ет. "&A29&" - "&C29&" "&D29) | L29: =IF(OR(C29="Апартамент",C29="Ателие"),"Да","")
J30: =IF(OR(ISBLANK(A30),ISBLANK(C30),ISBLANK(D30)),"","Ет. "&A30&" - "&C30&" "&D30) | L30: =IF(OR(C30="Апартамент",C30="Ателие"),"Да","")
... J200: =IF(OR(ISBLANK(A200),ISBLANK(C200),ISBLANK(D200)),"","Ет. "&A200&" - "&C200&" "&D200) | L200: =IF(OR(C200="Апартамент",C200="Ателие"),"Да","")

Sheet За Инвеститора
A1: Етаж: | B1: Обект | C1: № обект | D1: Площ м2 | E1: Светла височина | F1: Изложение | G1: Забележка
A2: =Data!A3 -> 1 Партер | B2: =Data!J3 -> Ет. 1 Партер - Апартамент 1 | C2: =Data!D3 -> 1 | D2: =Data!E3 -> 73.05 | E2: =Data!G3 -> 2.6 | F2: =Data!F3 -> Югоизток | G2: =Data!I3 -> 0
A3: =Data!A4 -> 1 Партер | B3: =Data!J4 -> Ет. 1 Партер - Апартамент 2 | C3: =Data!D4 -> 2 | D3: =Data!E4 -> 65.43 | E3: =Data!G4 -> 2.6 | F3: =Data!F4 -> Изток | G3: =Data!I4 -> 0
A4: =Data!A5 -> 1 Партер | B4: =Data!J5 | C4: =Data!D5 -> 0 | D4: =Data!E5 -> 25.08 | E4: =Data!G5 -> 2.6 | F4: =Data!F5 -> 0 | G4: =Data!I5 -> 0
A5: =Data!A6 -> 2 | B5: =Data!J6 -> Ет. 2 - Апартамент 3 | C5: =Data!D6 -> 3 | D5: =Data!E6 -> 55.16 | E5: =Data!G6 -> 2.6 | F5: =Data!F6 -> Югоизток | G5: =Data!I6 -> 0
A6: =Data!A7 -> 2 | B6: =Data!J7 -> Ет. 2 - Апартамент 4 | C6: =Data!D7 -> 4 | D6: =Data!E7 -> 55.03 | E6: =Data!G7 -> 2.6 | F6: =Data!F7 -> Югоизток | G6: =Data!I7 -> 0
A7: =Data!A8 -> 2 | B7: =Data!J8 | C7: =Data!D8 -> 0 | D7: =Data!E8 -> 18.9 | E7: =Data!G8 -> 2.6 | F7: =Data!F8 -> 0 | G7: =Data!I8 -> 0
A8: =Data!A9 -> 2 | B8: =Data!J9 -> Ет. 2 - Апартамент 5 | C8: =Data!D9 -> 5 | D8: =Data!E9 -> 60.72 | E8: =Data!G9 -> 2.6 | F8: =Data!F9 -> Изток | G8: =Data!I9 -> 0
A9: =Data!A10 -> 3 | B9: =Data!J10 -> Ет. 3 - Апартамент 6 | C9: =Data!D10 -> 6 | D9: =Data!E10 -> 55.16 | E9: =Data!G10 -> 2.6 | F9: =Data!F10 -> Югоизток | G9: =Data!I10 -> 0
A10: =Data!A11 -> 3 | B10: =Data!J11 | C10: =Data!D11 -> 0 | D10: =Data!E11 -> 18.9 | E10: =Data!G11 -> 2.6 | F10: =Data!F11 -> 0 | G10: =Data!I11 -> 0
A11: =Data!A12 -> 3 | B11: =Data!J12 -> Ет. 3 - Апартамент 7 | C11: =Data!D12 -> 7 | D11: =Data!E12 -> 55.03 | E11: =Data!G12 -> 2.6 | F11: =Data!F12 -> Югоизток | G11: =Data!I12 -> 0
A12: =Data!A13 -> 3 | B12: =Data!J13 -> Ет. 3 - Апартамент 8 | C12: =Data!D13 -> 8 | D12: =Data!E13 -> 60.72 | E12: =Data!G13 -> 2.6 | F12: =Data!F13 -> Изток | G12: =Data!I13 -> 0
A13: =Data!A14 -> 4 | B13: =Data!J14 -> Ет. 4 - Апартамент 9 | C13: =Data!D14 -> 9 | D13: =Data!E14 -> 82.27 | E13: =Data!G14 -> 2.6 | F13: =Data!F14 -> Югоизток | G13: =Data!I14 -> 0
... A200: =Data!A201 -> 0 | B200: =Data!J201 -> 0 | C200: =Data!D201 -> 0 | D200: =Data!E201 -> 0 | E200: =Data!G201 -> 0 | F200: =Data!F201 -> 0 | G200: =Data!I201 -> 0

Sheet Drop_Down_Values
A1: Вид обект | B1: Вид Кратък | C1: Етаж | D1: Изложение
A3: Апартамент | B3: АП | C3: -3 Сутерен | D3: Север
A4: Ателие | B4: АТ | C4: -2 Сутерен | D4: Североизток
A5: Гараж | B5: ГА | C5: -1 Сутерен | D5: Изток
A6: Паркомясто на терена | B6: ПТ | C6: 1 Партер | D6: Югоизток
A7: Паркомясто извън терена | B7: ПИ | C7: 2 | D7: Юг
A8: Паркомясто в подземен гараж | B8: ПП | C8: 3 | D8: Югозапад
A9: Склад | B9: СК | C9: 4 | D9: Запад
A10: Магазин | B10: МА | C10: 5 | D10: Северозапад
A11: Заведение за обществено хранене | B11: ЗХ | C11: 6
A12: Общи части | B12: ОЧ | C12: 7
A13: Парцел | B13: ПА | C13: 8
A14: ЗАСТРОЕНА ПЛОЩ (на етажа) | B14: ЗП | C14: 9
C15: 10
C16: 11
C17: 12
C18: 13
C19: 14
C20: 15
C21: 16
C22: 17
C23: 18
C24: 19
C25: 20
C26: 21
... C28: 23

Sheet Sheet1
A1: Уникален Идентификатор на обекта | B1: Етаж | C1: Кота [m] | D1: Вид Обект | E1: Номер на обекта | F1: Означение на обекта [#] | G1: Площ [m2] | H1: Изложение [Ю,ЮИ,..] | I1: Вид обект под обекта | J1: H - Светло [m] | K1: Жилище | L1: Площ на прилежаща тераса / покривна тераса | M1: Цена | N1: Прилежащ / съответстващ обект | O1: Забележка
A2: УИ_1 | D2: Апартамент | F2: Вид Обект + Номер на обекта | H2: Ю | I2: Магазин | K2: Да | N2: Уникален Идентификатор на обекта (УИ)
A3: УИ_2 | D3: Ателие | H3: ЮИ | I3: Гараж | K3: Не
A4: УИ_3 | D4: Гараж | H4: ЮЗ | I4: Друго
A5: УИ_4 | D5: Паркомясто на терена | H5: И
A6: УИ_5 | D6: Паркомясто извън терена | H6: З
A7: УИ_6 | D7: Паркомясто в подземен гараж | H7: СИ
A8: УИ_7 | D8: Склад | H8: СЗ
A9: УИ_8 | D9: Магазин | H9: С
A10: УИ_9 | D10: Заведение за обществено хранене
A11: УИ_10 | D11: Общи части
A12: УИ_11 | D12: Парцел
A13: УИ_12
A14: УИ_13
A15: УИ_14
A16: УИ_15
A17: УИ_16
A18: УИ_17
A19: УИ_18
A20: УИ_19
A21: УИ_20
A22: УИ_21
A23: УИ_22
A24: УИ_23
... A28: УИ_n
